Workbook

Sheet Avant de commencer
E2: Formulaire d'auto-certification
F4: Guide d'utilisation
D8: Comment remplir mon auto-certification ?
D9: Dans un premier temps il est nécessaire de remplir l'ensemble des informations demandées dans l'onglet "Votre solution". Tout fichier non intégralement rempli ne sera pas pris en compte. Pour remplir votre auto-certification, vous avez juste à cocher les exigences remplies par votre solution dans les colonnes "Votre solution répond à l'exigence", dans l'onglet "auto-certification".
D12: Exemples :
D13: Cas 1 : Votre solution répond à l'exigence - La case est cochée d'un "X"
D17: Cas 2 : Votre solution ne répond pas à l'exigence - La case n'est pas cochée.
D23: Où voir la note de ma solution ?
D24: À la suite de l'auto-certification, une note dans l'onglet "Résultat" vous est attribuée.
D25: Celle-ci est échelonnée en trois couleurs :
E27: Votre solution remplit au moins l'intégralité des exigences B1 et plus de la moitié des exigences B2
E28: Votre solution remplit au moins l'intégralité des exigences B1
E29: Votre solution ne remplit pas l'intégralité des exigences B1
D31: Une fois le résultat établi, il vous est possible de vous engager à améliorer votre résultat dans le même onglet.
D34: Une fois mon résultat obtenu que faire ?
D35: Une fois votre résultat obtenu, enregistrez ce fichier Excel au format PDF et envoyez-le à l'adresse suivante : cellule.nationale.simdph@cnsafr.onmicrosoft.com avec comme objet : [Nom de votre entreprise/MDPH] [Nom de votre solution] Formulaire d'auto-certification téléservice
D40: Et ensuite ?
D41: Une fois votre fichier reçu et vérifié, votre solution et sa note seront publiées sur le site de la CNSA. Si toutefois un utilisateur de votre service venait à faire une réclamation sur le contenu de votre auto-certification, une enquête sera réalisée et un audit de votre solution pourra être effectué. Si vous refusez cet audit, votre auto-certification sera supprimée du site internet, et vous devrez refaire une auto-certification.

Sheet Règlement
B2: ***
B11: Règlement de l’Auto-certification du Téléservice
B13: 1. Candidat - Eligibilité
B14: La procédure d’auto-certification est ouverte à toute personne morale propriétaire d’une solution logicielle de dépôt en ligne des demandes des usagers, destinée aux Maisons Départementales des Personnes Handicapées (MDPH) (ci-après désignée « le Candidat »).
B16: 2. Périmètre de l’auto-certification
B17: L’auto-certification concerne les solutions logicielles, constituées d’un applicatif unique ou de plusieurs composants applicatifs intégrés. Dans le cas où le Candidat commercialise plusieurs solutions destinées aux MDPH et qu’il souhaite bénéficier de l’auto-certification pour chacune de ses solutions, il doit obtenir l’auto-certification pour chacune d’entre elles.
B18: Une matrice doit être renseignée par le Candidat pour chaque solution qu’il décide d’inscrire dans le processus d’auto-certification. L’auto-certification a pour finalité de permettre au Candidat de vérifier et de déclarer que sa solution logicielle est conforme à la matrice.
B20: 3. Engagement du Candidat
B21: Le formulaire d’auto-certification doit être dûment rempli par un représentant légal de la société Candidate, réputé agir au nom et pour le compte de celle-ci.
B22: Le Candidat s’engage lors du dépôt du formulaire d’auto-certification, et tout au long de sa certification, à ce que les informations communiquées par ses soins soient sincères, fidèles à la couverture fonctionnelle réelle de sa solution logicielle et valent en conséquence engagement de conformité de sa part sur cette couverture fonctionnelle.
B23: Toute modification apportée à la solution et impactant la couverture des exigences définies dans la matrice implique que le Candidat doive faire parvenir un nouveau formulaire d’auto-certification conformément aux dispositions de l’article 4 du présent règlement. Le résultat de ce nouveau formulaire remplacera le précédent.
B24: Le Candidat s’engage également à garantir la conformité de sa solution aux dispositions législatives, réglementaires ou autres référentiels opposables (présents dans le cadre fonctionnel général), à lui ou à ses clients.
... B63: ***

Sheet Votre solution
A1: Votre solution
A3: Nom de votre entreprise
A4: Nom de votre solution
A5: Version de votre solution
A7: Votre nom
A8: Votre prénom
A9: Votre numéro de téléphone
A10: Votre adresse mail
A12: Atteste sur l'honneur avoir lu et approuvé le règlement de l'auto-certification présent dans l'onglet "Règlement", et vérifié que l'ensemble des informations contenues dans ce fichier Excel sont correctes et remplies de bonne foi.
A13: Lu et approuvé
A14: Signature :

Sheet Auto-certification
A1: Matrice d'auto-certification téléservice
B3: Thématique | C3: Exigence | D3: Intitulé exigence | E3: Votre solution répond à l'exigence | H3: Thématique | I3: Exigence | J3: Intitulé exigence | K3: Votre solution répond à l'exigence
A4: Exigences indispensables | B4: Recommandations générales et éléments réglementaires | C4: B1-REGL | D4: La solution de téléservice satisfait aux exigences décrites dans la partie 1 du cadre général fonctionnel (Recommandations générales et éléments règlementaires), concernant la sécurité et la protection des données personnelles, la sécurité, les recommandations relatives à la sécurité du mot de passe, la confidentialité, le stockage des données de santé, l’accessibilité (RGAA), les démarches qualité (Cerfa numérique) et l’interopérabilité. | G4: Exigences conseillées | H4: Ergonomie générale | I4: B2-ERGO 1 | J4: Le responsive design
B5: Sécurité et protection des données personnelles | C5: B1-RGPD 1 | D5: Les mentions relatives au RGPD | H5: Ergonomie générale | I5: B2-ERGO 2 | J5: La sauvegarde automatique des données
B6: Besoins techniques | C6: B1-STO 1 | D6: Le stockage de la donnée au sein du téléservice | H6: L’authentification et l’administration | I6: B2-CREA 1 | J6: La génération du mot de passe
B7: Besoins techniques | C7: B1-SLA 1 | D7: Niveau de service du téléservice | H7: L’authentification et l’administration | I7: B2-GER 1 | J7: La suppression d’un compte pour inactivité prolongée
B8: L’authentification et l’administration | C8: B1-CREA 1 | D8: Création manuelle d’un compte utilisateur | H8: L’authentification et l’administration | I8: B2-GER 2 | J8: L'ajout de plusieurs profils de bénéficiaires
B9: L’authentification et l’administration | C9: B1-CREA 2 | D9: Création d’un compte utilisateur via FranceConnect | H9: Les statistiques | I9: B2-STAT 1 | J9: Le nombre de connexions
B10: L’authentification et l’administration | C10: B1-CON 1 | D10: Les modalités de connexion au téléservice | H10: Les statistiques | I10: B2-STAT 2 | J10: Le nombre de comptes
B11: L’authentification et l’administration | C11: B1-CON 2 | D11: Le mot de passe oublié | H11: Les statistiques | I11: B2-STAT 3 | J11: Le nombre de dossiers de demandes
B12: L’authentification et l’administration | C12: B1-GER 1 | D12: La modification des informations d’un compte | H12: Le dépôt d’un dossier de demandes | I12: B2-TYPE 1 | J12: Cas où le demandeur est la personne handicapée
B13: L’authentification et l’administration | C13: B1-GER 2 | D13: La suppression d’un compte | H13: Le dépôt d’un dossier de demandes | I13: B2-TYPE 2 | J13: Cas où le demandeur est le responsable de l’autorité parentale de la personne handicapée
B14: L’authentification et l’administration | C14: B1-DECO 1 | D14: La déconnexion | H14: Le dépôt d’un dossier de demandes | I14: B2-TYPE 3 | J14: Cas où le demandeur est le tuteur de la personne handicapée
B15: Le dépôt d’un dossier de demandes | C15: B1-TYPE 1 | D15: Choix du type de demandeur | H15: Le dépôt d’un dossier de demandes | I15: B2-TYPE 4 | J15: Cas où le demandeur possède plusieurs profils de bénéficiaires définis dans son compte
B16: Le dépôt d’un dossier de demandes | C16: B1-SAIS 0 | D16: Identifiant de dossier téléservice (en création) | H16: Le dépôt d’un dossier de demandes | I16: B2-NAVI 1 | J16: Parcours du formulaire
... B24: Le dépôt d’un dossier de demandes | C24: B1-SAIS 8 | D24: Confirmation dans le téléservice du dépôt de la demande | H24: Afficher l’ensemble des dossiers d’un usager | I24: B2-AFFI 1 | J24: Rechercher un dossier de demandes ou une demande au sein d’un compte
B25: Le dépôt d’un dossier de demandes | C25: B1-SAIS 9 | D25: Confirmation par email du dépôt de la demande
B26: Le dépôt d’un dossier de demandes | C26: B1-SAIS 10 | D26: Contrôle sur la saisie du NIR
B27: Le dépôt d’un dossier de demandes | C27: B1-SAIS 11 | D27: Contrôle relatif au lieu de naissance
B28: Le dépôt d’un dossier de demandes | C28: B1-REPR 1 | D28: Sauvegarde et reprise d’une saisie pour un dossier
B29: Le dépôt d’un dossier de demandes | C29: B1-NOUV 1 | D29: Conditions permettant à un demandeur de déposer un nouveau dossier de demandes pour un bénéficiaire
B30: Afficher l’ensemble des dossiers d’un usager | C30: B1-AFFI 1 | D30: Affichage des dossiers de demandes
B31: Afficher l’ensemble des dossiers d’un usager | C31: B1-AFFI 2 | D31: Affichage et mise à jour des demandes
B32: Afficher l’ensemble des dossiers d’un usager | C32: B1-AFFI 3 | D32: Statuts harmonisés et statuts d’affichage
B33: Afficher l’ensemble des dossiers d’un usager | C33: B1-AFFI 4 | D33: Accessibilité des pièces
B34: Afficher l’ensemble des dossiers d’un usager | C34: B1-AFFI 5 | D34: Affichage de la décision
B35: La modification d’un dossier de demandes | C35: B1-COMP 0 | D35: Identifiant de dossier téléservice (en modification)
B36: La modification d’un dossier de demandes | C36: B1-COMP 1 | D36: Conditions permettant à un usager d’apporter une modification à un dossier déposé
... B40: Demande de pièces par la MDPH | C40: B1-RECE 1 | D40: Réception du flux de demande de pièces

Sheet Résultat
A1: Vos résultats
A2: Suite à votre auto-certification, votre solution logicielle obtient la couleur : | G2: =IF(COUNTBLANK('Auto-certification'!E4:E40)>0,"Orange",IF(COUNTBLANK('Auto-certification'!K4:K24)<=COUNTA('Auto-certification'!K4:K24),"Verte","Jaune")) -> Orange
A10: Souhaitez-vous vous engager à améliorer ce résultat ? | E10: Oui
A11: =IF(E10="Oui","Je m'engage à ce que d'ici les dates exprimées ci-dessous, ma solution réponde aux exigences correspondantes : ","") -> Je m'engage à ce que d'ici les dates exprimées ci-dessous, ma solution réponde aux exigences correspondantes :
A13: =IF(E10="Oui","Exigences indispensables","") -> Exigences indispensables | C13: {=IF(E10="Oui","Date (au format jj/mm/aaaa)","")} -> Date (au format jj/mm/aaaa) | E13: {=IF(E10="Oui","Exigences conseillées","")} -> Exigences conseillées | G13: =IF(E10="Oui","Date (au format jj/mm/aaaa)","") -> Date (au format jj/mm/aaaa)
A15: {=IF($E$10="Oui",IFERROR(INDEX('Auto-certification'!$C$4:$C$40,SMALL(IF('Auto-certification'!$E$4:$E$40="",ROW('Auto-certification'!$E$4:$E$40)-MIN(ROW('Auto-certification'!$E$4:$E$40))+1),ROW()-14)),""),"")} -> B1-REGL | E15: {=IF($E$10="Oui",IFERROR(INDEX('Auto-certification'!$I$4:$I$24,SMALL(IF('Auto-certification'!$K$4:$K$24="",ROW('Auto-certification'!$K$4:$K$24)-MIN(ROW('Auto-certification'!$K$4:$K$24))+1),ROW()-14)),""),"")} -> B2-ERGO 1
A16: {=IF($E$10="Oui",IFERROR(INDEX('Auto-certification'!$C$4:$C$40,SMALL(IF('Auto-certification'!$E$4:$E$40="",ROW('Auto-certification'!$E$4:$E$40)-MIN(ROW('Auto-certification'!$E$4:$E$40))+1),ROW()-14)),""),"")} -> B1-RGPD 1 | E16: {=IF($E$10="Oui",IFERROR(INDEX('Auto-certification'!$I$4:$I$24,SMALL(IF('Auto-certification'!$K$4:$K$24="",ROW('Auto-certification'!$K$4:$K$24)-MIN(ROW('Auto-certification'!$K$4:$K$24))+1),ROW()-14)),""),"")} -> B2-ERGO 2
A17: {=IF($E$10="Oui",IFERROR(INDEX('Auto-certification'!$C$4:$C$40,SMALL(IF('Auto-certification'!$E$4:$E$40="",ROW('Auto-certification'!$E$4:$E$40)-MIN(ROW('Auto-certification'!$E$4:$E$40))+1),ROW()-14)),""),"")} -> B1-STO 1 | E17: {=IF($E$10="Oui",IFERROR(INDEX('Auto-certification'!$I$4:$I$24,SMALL(IF('Auto-certification'!$K$4:$K$24="",ROW('Auto-certification'!$K$4:$K$24)-MIN(ROW('Auto-certification'!$K$4:$K$24))+1),ROW()-14)),""),"")} -> B2-CREA 1
A18: {=IF($E$10="Oui",IFERROR(INDEX('Auto-certification'!$C$4:$C$40,SMALL(IF('Auto-certification'!$E$4:$E$40="",ROW('Auto-certification'!$E$4:$E$40)-MIN(ROW('Auto-certification'!$E$4:$E$40))+1),ROW()-14)),""),"")} -> B1-SLA 1 | E18: {=IF($E$10="Oui",IFERROR(INDEX('Auto-certification'!$I$4:$I$24,SMALL(IF('Auto-certification'!$K$4:$K$24="",ROW('Auto-certification'!$K$4:$K$24)-MIN(ROW('Auto-certification'!$K$4:$K$24))+1),ROW()-14)),""),"")} -> B2-GER 1
A19: {=IF($E$10="Oui",IFERROR(INDEX('Auto-certification'!$C$4:$C$40,SMALL(IF('Auto-certification'!$E$4:$E$40="",ROW('Auto-certification'!$E$4:$E$40)-MIN(ROW('Auto-certification'!$E$4:$E$40))+1),ROW()-14)),""),"")} -> B1-CREA 1 | E19: {=IF($E$10="Oui",IFERROR(INDEX('Auto-certification'!$I$4:$I$24,SMALL(IF('Auto-certification'!$K$4:$K$24="",ROW('Auto-certification'!$K$4:$K$24)-MIN(ROW('Auto-certification'!$K$4:$K$24))+1),ROW()-14)),""),"")} -> B2-GER 2
A20: {=IF($E$10="Oui",IFERROR(INDEX('Auto-certification'!$C$4:$C$40,SMALL(IF('Auto-certification'!$E$4:$E$40="",ROW('Auto-certification'!$E$4:$E$40)-MIN(ROW('Auto-certification'!$E$4:$E$40))+1),ROW()-14)),""),"")} -> B1-CREA 2 | E20: {=IF($E$10="Oui",IFERROR(INDEX('Auto-certification'!$I$4:$I$24,SMALL(IF('Auto-certification'!$K$4:$K$24="",ROW('Auto-certification'!$K$4:$K$24)-MIN(ROW('Auto-certification'!$K$4:$K$24))+1),ROW()-14)),""),"")} -> B2-STAT 1
A21: {=IF($E$10="Oui",IFERROR(INDEX('Auto-certification'!$C$4:$C$40,SMALL(IF('Auto-certification'!$E$4:$E$40="",ROW('Auto-certification'!$E$4:$E$40)-MIN(ROW('Auto-certification'!$E$4:$E$40))+1),ROW()-14)),""),"")} -> B1-CON 1 | E21: {=IF($E$10="Oui",IFERROR(INDEX('Auto-certification'!$I$4:$I$24,SMALL(IF('Auto-certification'!$K$4:$K$24="",ROW('Auto-certification'!$K$4:$K$24)-MIN(ROW('Auto-certification'!$K$4:$K$24))+1),ROW()-14)),""),"")} -> B2-STAT 2
A22: {=IF($E$10="Oui",IFERROR(INDEX('Auto-certification'!$C$4:$C$40,SMALL(IF('Auto-certification'!$E$4:$E$40="",ROW('Auto-certification'!$E$4:$E$40)-MIN(ROW('Auto-certification'!$E$4:$E$40))+1),ROW()-14)),""),"")} -> B1-CON 2 | E22: {=IF($E$10="Oui",IFERROR(INDEX('Auto-certification'!$I$4:$I$24,SMALL(IF('Auto-certification'!$K$4:$K$24="",ROW('Auto-certification'!$K$4:$K$24)-MIN(ROW('Auto-certification'!$K$4:$K$24))+1),ROW()-14)),""),"")} -> B2-STAT 3
A23: {=IF($E$10="Oui",IFERROR(INDEX('Auto-certification'!$C$4:$C$40,SMALL(IF('Auto-certification'!$E$4:$E$40="",ROW('Auto-certification'!$E$4:$E$40)-MIN(ROW('Auto-certification'!$E$4:$E$40))+1),ROW()-14)),""),"")} -> B1-GER 1 | E23: {=IF($E$10="Oui",IFERROR(INDEX('Auto-certification'!$I$4:$I$24,SMALL(IF('Auto-certification'!$K$4:$K$24="",ROW('Auto-certification'!$K$4:$K$24)-MIN(ROW('Auto-certification'!$K$4:$K$24))+1),ROW()-14)),""),"")} -> B2-TYPE 1
A24: {=IF($E$10="Oui",IFERROR(INDEX('Auto-certification'!$C$4:$C$40,SMALL(IF('Auto-certification'!$E$4:$E$40="",ROW('Auto-certification'!$E$4:$E$40)-MIN(ROW('Auto-certification'!$E$4:$E$40))+1),ROW()-14)),""),"")} -> B1-GER 2 | E24: {=IF($E$10="Oui",IFERROR(INDEX('Auto-certification'!$I$4:$I$24,SMALL(IF('Auto-certification'!$K$4:$K$24="",ROW('Auto-certification'!$K$4:$K$24)-MIN(ROW('Auto-certification'!$K$4:$K$24))+1),ROW()-14)),""),"")} -> B2-TYPE 2
A25: {=IF($E$10="Oui",IFERROR(INDEX('Auto-certification'!$C$4:$C$40,SMALL(IF('Auto-certification'!$E$4:$E$40="",ROW('Auto-certification'!$E$4:$E$40)-MIN(ROW('Auto-certification'!$E$4:$E$40))+1),ROW()-14)),""),"")} -> B1-DECO 1 | E25: {=IF($E$10="Oui",IFERROR(INDEX('Auto-certification'!$I$4:$I$24,SMALL(IF('Auto-certification'!$K$4:$K$24="",ROW('Auto-certification'!$K$4:$K$24)-MIN(ROW('Auto-certification'!$K$4:$K$24))+1),ROW()-14)),""),"")} -> B2-TYPE 3
A26: {=IF($E$10="Oui",IFERROR(INDEX('Auto-certification'!$C$4:$C$40,SMALL(IF('Auto-certification'!$E$4:$E$40="",ROW('Auto-certification'!$E$4:$E$40)-MIN(ROW('Auto-certification'!$E$4:$E$40))+1),ROW()-14)),""),"")} -> B1-TYPE 1 | E26: {=IF($E$10="Oui",IFERROR(INDEX('Auto-certification'!$I$4:$I$24,SMALL(IF('Auto-certification'!$K$4:$K$24="",ROW('Auto-certification'!$K$4:$K$24)-MIN(ROW('Auto-certification'!$K$4:$K$24))+1),ROW()-14)),""),"")} -> B2-TYPE 4
... A35: {=IF($E$10="Oui",IFERROR(INDEX('Auto-certification'!$C$4:$C$40,SMALL(IF('Auto-certification'!$E$4:$E$40="",ROW('Auto-certification'!$E$4:$E$40)-MIN(ROW('Auto-certification'!$E$4:$E$40))+1),ROW()-14)),""),"")} -> B1-SAIS 8 | E35: {=IF($E$10="Oui",IFERROR(INDEX('Auto-certification'!$I$4:$I$24,SMALL(IF('Auto-certification'!$K$4:$K$24="",ROW('Auto-certification'!$K$4:$K$24)-MIN(ROW('Auto-certification'!$K$4:$K$24))+1),ROW()-14)),""),"")} -> B2-AFFI 1
A36: {=IF($E$10="Oui",IFERROR(INDEX('Auto-certification'!$C$4:$C$40,SMALL(IF('Auto-certification'!$E$4:$E$40="",ROW('Auto-certification'!$E$4:$E$40)-MIN(ROW('Auto-certification'!$E$4:$E$40))+1),ROW()-14)),""),"")} -> B1-SAIS 9
A37: {=IF($E$10="Oui",IFERROR(INDEX('Auto-certification'!$C$4:$C$40,SMALL(IF('Auto-certification'!$E$4:$E$40="",ROW('Auto-certification'!$E$4:$E$40)-MIN(ROW('Auto-certification'!$E$4:$E$40))+1),ROW()-14)),""),"")} -> B1-SAIS 10
A38: {=IF($E$10="Oui",IFERROR(INDEX('Auto-certification'!$C$4:$C$40,SMALL(IF('Auto-certification'!$E$4:$E$40="",ROW('Auto-certification'!$E$4:$E$40)-MIN(ROW('Auto-certification'!$E$4:$E$40))+1),ROW()-14)),""),"")} -> B1-SAIS 11 | E38: {=IF($E$10="Oui",IFERROR(INDEX('Auto-certification'!$I$4:$I$26,SMALL(IF('Auto-certification'!$K$4:$K$26="",ROW('Auto-certification'!$K$4:$K$26)-MIN(ROW('Auto-certification'!$K$4:$K$26))+1),ROW()-14)),""),"")}
A39: {=IF($E$10="Oui",IFERROR(INDEX('Auto-certification'!$C$4:$C$40,SMALL(IF('Auto-certification'!$E$4:$E$40="",ROW('Auto-certification'!$E$4:$E$40)-MIN(ROW('Auto-certification'!$E$4:$E$40))+1),ROW()-14)),""),"")} -> B1-REPR 1
A40: {=IF($E$10="Oui",IFERROR(INDEX('Auto-certification'!$C$4:$C$40,SMALL(IF('Auto-certification'!$E$4:$E$40="",ROW('Auto-certification'!$E$4:$E$40)-MIN(ROW('Auto-certification'!$E$4:$E$40))+1),ROW()-14)),""),"")} -> B1-NOUV 1
A41: {=IF($E$10="Oui",IFERROR(INDEX('Auto-certification'!$C$4:$C$40,SMALL(IF('Auto-certification'!$E$4:$E$40="",ROW('Auto-certification'!$E$4:$E$40)-MIN(ROW('Auto-certification'!$E$4:$E$40))+1),ROW()-14)),""),"")} -> B1-AFFI 1
A42: {=IF($E$10="Oui",IFERROR(INDEX('Auto-certification'!$C$4:$C$40,SMALL(IF('Auto-certification'!$E$4:$E$40="",ROW('Auto-certification'!$E$4:$E$40)-MIN(ROW('Auto-certification'!$E$4:$E$40))+1),ROW()-14)),""),"")} -> B1-AFFI 2
A43: {=IF($E$10="Oui",IFERROR(INDEX('Auto-certification'!$C$4:$C$40,SMALL(IF('Auto-certification'!$E$4:$E$40="",ROW('Auto-certification'!$E$4:$E$40)-MIN(ROW('Auto-certification'!$E$4:$E$40))+1),ROW()-14)),""),"")} -> B1-AFFI 3
A44: {=IF($E$10="Oui",IFERROR(INDEX('Auto-certification'!$C$4:$C$40,SMALL(IF('Auto-certification'!$E$4:$E$40="",ROW('Auto-certification'!$E$4:$E$40)-MIN(ROW('Auto-certification'!$E$4:$E$40))+1),ROW()-14)),""),"")} -> B1-AFFI 4
A45: {=IF($E$10="Oui",IFERROR(INDEX('Auto-certification'!$C$4:$C$40,SMALL(IF('Auto-certification'!$E$4:$E$40="",ROW('Auto-certification'!$E$4:$E$40)-MIN(ROW('Auto-certification'!$E$4:$E$40))+1),ROW()-14)),""),"")} -> B1-AFFI 5
A46: {=IF($E$10="Oui",IFERROR(INDEX('Auto-certification'!$C$4:$C$40,SMALL(IF('Auto-certification'!$E$4:$E$40="",ROW('Auto-certification'!$E$4:$E$40)-MIN(ROW('Auto-certification'!$E$4:$E$40))+1),ROW()-14)),""),"")} -> B1-COMP 0
A47: {=IF($E$10="Oui",IFERROR(INDEX('Auto-certification'!$C$4:$C$40,SMALL(IF('Auto-certification'!$E$4:$E$40="",ROW('Auto-certification'!$E$4:$E$40)-MIN(ROW('Auto-certification'!$E$4:$E$40))+1),ROW()-14)),""),"")} -> B1-COMP 1
A48: {=IF($E$10="Oui",IFERROR(INDEX('Auto-certification'!$C$4:$C$40,SMALL(IF('Auto-certification'!$E$4:$E$40="",ROW('Auto-certification'!$E$4:$E$40)-MIN(ROW('Auto-certification'!$E$4:$E$40))+1),ROW()-14)),""),"")} -> B1-COMP 2
A49: {=IF($E$10="Oui",IFERROR(INDEX('Auto-certification'!$C$4:$C$40,SMALL(IF('Auto-certification'!$E$4:$E$40="",ROW('Auto-certification'!$E$4:$E$40)-MIN(ROW('Auto-certification'!$E$4:$E$40))+1),ROW()-14)),""),"")} -> B1-COMP 3
A50: {=IF($E$10="Oui",IFERROR(INDEX('Auto-certification'!$C$4:$C$40,SMALL(IF('Auto-certification'!$E$4:$E$40="",ROW('Auto-certification'!$E$4:$E$40)-MIN(ROW('Auto-certification'!$E$4:$E$40))+1),ROW()-14)),""),"")} -> B1-COMP 4 | AB50: =IF(COUNTBLANK('Auto-certification'!E4:E40)>0,1,IF(COUNTBLANK('Auto-certification'!K4:K26)<12,3,2)) -> 1
A51: {=IF($E$10="Oui",IFERROR(INDEX('Auto-certification'!$C$4:$C$40,SMALL(IF('Auto-certification'!$E$4:$E$40="",ROW('Auto-certification'!$E$4:$E$40)-MIN(ROW('Auto-certification'!$E$4:$E$40))+1),ROW()-14)),""),"")} -> B1-RECE 1
A52: =TODAY() -> 44389 | E52: =IF(E10="Oui",TRUE,FALSE) -> TRUE
